BEGIN:VCALENDAR
VERSION:2.0
PRODID:-//A-taraxia.es - ECPv6.10.1.1//NONSGML v1.0//EN
CALSCALE:GREGORIAN
METHOD:PUBLISH
X-ORIGINAL-URL:https://a-taraxia.es
X-WR-CALDESC:Eventos para A-taraxia.es
REFRESH-INTERVAL;VALUE=DURATION:PT1H
X-Robots-Tag:noindex
X-PUBLISHED-TTL:PT1H
BEGIN:VTIMEZONE
TZID:Europe/Madrid
BEGIN:DAYLIGHT
TZOFFSETFROM:+0100
TZOFFSETTO:+0200
TZNAME:CEST
DTSTART:20240331T010000
END:DAYLIGHT
BEGIN:STANDARD
TZOFFSETFROM:+0200
TZOFFSETTO:+0100
TZNAME:CET
DTSTART:20241027T010000
END:STANDARD
END:VTIMEZONE
BEGIN:VEVENT
DTSTART;VALUE=DATE:20241206
DTEND;VALUE=DATE:20241209
DTSTAMP:20260426T054552
CREATED:20240916T153229Z
LAST-MODIFIED:20241120T103425Z
UID:11240-1733443200-1733702399@a-taraxia.es
SUMMARY:Retiro Metodo Wim Hof  en Madrid
DESCRIPTION:RETIRO MÉTODO WIM HOF\nLa Pedriza! (Madrid)\n6 a 8 de Diciembre\n\n \n\nPrecio: 390€\nPARA ACUDIR A ESTE RETIRO ES NECESARIO QUE YA HAYAS HECHO UN TALLER DEL MÉTODO WIM HOF CON LUKE O OTRO INSTRUCTOR CERTIFICADO.\nSi no es así\, puedes hacer una CLASE ONLINE CON LUKE con 100€ de descuento del precio normal. APÚNTATE AL RETIRO Y CONTACTA CON NOSOTROS PARA ORGANIZAR LA CLASE. \n\n \n\nEste evento se impartirá en castellano\nReserva tu plaza aqui\n		\n			\n				\n					\n					\n		\n			\n				He leido\, entiendo y acepto los términos y condiciones							\n		\n\n						\n			\n		\n\n		\n		\n			\n				\n					plan_select				\n			\n\n			\n				\n									\n													\n							\n							100.00€						\n											\n								\n			\n		\n\n		Reserva tu plaza aqui! * Este botón te lleva a un portal de pago de Stripe para pagar la reserva de la plaza \n\n\n \n\nEl Retiro!\n3 días y 2 noches de aventura\, compañerismo y comunidad.\nEn este retiro\, nos sumergiremos en las profundidades del Método Wim Hof\, trascendiendo lo ordinario para descubrir cómo este método nos empodera hacia una salud inquebrantable\, una fortaleza indomable y un bienestar ilimitado. Será un viaje de autodescubrimiento a través de sensaciones naturales\, todo ello en el corazón del impresionante paisaje natural de la Pedriza. \n \nEn el siguiente vídeo verás lo que podrás vivir con nosotros en esta increíble aventura: \n\n\n\n \n\n \n \n\n\n \n \n\nView this post on Instagram\n\n \n \n\nA post shared by Luke Wills (@lukemallorca) \n\n\n \n\n¿Qué aprenderás en nuestros retiros?\n\nRespiración\n \nLa respiración es el control remoto de nuestro sistema nervioso!\nEn nuestros retiros\, no solo te proporcionaremos herramientas para transformar la química de tu cuerpo\, sino que también te instruiremos sobre la forma correcta de respirar en tu día a día. Te ofreceremos protocolos y prácticas que te permitirán mejorar tu respiración y tomar control de tu sistema nervioso\, activándolo o relajándolo según lo desees. \nEl Método Wim Hof fue una revelación para mí en cuanto al poder de la respiración. Desde entonces\, he explorado numerosos métodos\, extrayendo lo mejor de cada uno. En nuestros retiros\, te enseñaremos las técnicas más impactantes que ofrecen resultados en menos tiempo y de la manera más sencilla. \nDominarás técnicas derivadas de diversos métodos\, como el Método Wim Hof\, Buteyko\, Oxygen Advantage\, XPT y muchos otros. \n  \n\n\nSuperación\n \n«Somos capaces de mucho mas de lo que creemos!»-WIM HOF\nPara progresar\, es esencial superar las barreras mentales. A menudo\, somos nosotros mismos y nuestras creencias limitantes las que nos impiden alcanzar lo que deseamos. Nuestros retiros están meticulosamente diseñados para ayudarte a superar esas restricciones mentales y liberarte de lo que ya no te beneficia.\n \n\n\nReconexión\n \nNuestras vidas cómodas nos han desconectado de la naturaleza\, debilitándonos física\, mental y emocionalmente. \nHoy\, vivimos en una comodidad constante que ha erosionado nuestra fuerza\, tanto física como mental. \nEl acondicionamiento climático busca restablecer la conexión entre nuestro cuerpo y su entorno natural\, reactivando los mecanismos ancestrales que nos permiten ser sanos\, fuertes y felices. Estoy convencido de que esta desconexión de nuestro hábitat natural\, sumada a nuestra adaptación a entornos artificiales\, es una de las principales causas de muchos de nuestros males físicos y psicológicos. \nPara recuperar esa conexión y aclimatarnos de nuevo\, caminaremos ligeros de ropa a través de bosques y montañas\, y nos sumergiremos en ríos\, cascadas y pozas de una belleza salvaje e imponente. \nEl frío\, por sí mismo\, posee un poder transformador. Pero al fusionarlo con la magia de la naturaleza y el apoyo de un grupo comprometido a superarse\, estas experiencias pueden marcar un antes y un después en nuestras vidas. \n\n\n \n\n¿Cuándo?\n6 al 8 de Diciembre 2024 \nEntrada el Viernes 6 entre las 16:00 para el check in y salida el domingo 8 después de comer. \n¿Dónde?\n \nLa Pedriza es un paisaje natural único\, moldeado por la fuerza de antiguos glaciares que dejaron a su paso imponentes rocas y formaciones graníticas. Este lugar mágico\, con sus singulares bloques esparcidos y siluetas escarpadas\, parece contener los secretos y susurros de tiempos inmemoriales. Es precisamente en este escenario de asombro y contemplación donde hemos elegido desarrollar nuestro retiro\, buscando la fusión perfecta entre el aprendizaje y la naturaleza en su estado más puro. \n\n \n\n¿Qué incluye?\n\n– Alojamiento: Habitación compartida\n– Comida de Viernes a Domingo comida\n– Actividades sorpresa: Paseos por la montaña\, baños en ríos\, respiración y más!\n\n\n \n\nLa Tribu\n \nGrupo seleccionado por la naturaleza de loc@s de la colina como tú ;). \n\n \n\nSobre Nosotros\nLuke Wills\n \nTras realizar muchos cursos además de investigación propia\, por mi experiencia de vida y a base de prueba y error\, llegué a la conclusión de que el modelo estándar para conseguir un estado de salud óptimo estaba incompleto. Esto me llevó a viajar por muchos lugares del mundo para entrenar con algunos de los mejores entrenadores de sus campos y me ha llevado a vivir aventuras increíbles\, desde bucear en el Mar Andaman\, escalar montañas en los Alpes\, practicar boxeo Tailandés en su país de origen y subir el Mt. Sniezka en Polonia\, medio desnudo en pleno invierno. \nTodos estos aprendizajes y experiencia de vida me han enseñado que somos capaces de mucho más de lo que pensamos y que para encontrar la salud y libertad verdadera hay que entrenar tanto el cuerpo como la mente. \nMi enfoque ahora es ayudar a las personas a reconectar con su entorno natural para despertar su potencial real y ayudarles a controlar su cuerpo\, mente y emociones a traves de la respiración. \n\n \n\n¡Comparte esta aventura con nosotros!\nPrecio: 390€ \nEste evento se impartirá en castellano\nReserva tu plaza aqui\n		\n			\n				\n					\n					\n		\n			\n				He leido\, entiendo y acepto los términos y condiciones							\n		\n\n						\n			\n		\n\n		\n		\n			\n				\n					plan_select				\n			\n\n			\n				\n									\n													\n							\n							100.00€						\n											\n								\n			\n		\n\n		Reserva tu plaza aqui! * Este botón te lleva a un portal de pago de Stripe
URL:https://a-taraxia.es/evento/retiro-metodo-wim-hof-madrid-pedriza/
LOCATION:Privado: Casa Rashmi\, La Pedriza\, Madrid\, Spain
CATEGORIES:Metodo Wim Hof españa,Retiro Metodo Wim Hof
ATTACH;FMTTYPE=image/jpeg:https://a-taraxia.es/wp-content/uploads/2020/04/pedriza-04.jpg
ORGANIZER;CN="Ataraxia":MAILTO:info@a-taraxia.es
END:VEVENT
END:VCALENDAR