BEGIN:VCALENDAR
VERSION:2.0
PRODID:-//A-taraxia.es - ECPv6.10.1.1//NONSGML v1.0//EN
CALSCALE:GREGORIAN
METHOD:PUBLISH
X-WR-CALNAME:A-taraxia.es
X-ORIGINAL-URL:https://a-taraxia.es
X-WR-CALDESC:Eventos para A-taraxia.es
REFRESH-INTERVAL;VALUE=DURATION:PT1H
X-Robots-Tag:noindex
X-PUBLISHED-TTL:PT1H
BEGIN:VTIMEZONE
TZID:Europe/Madrid
BEGIN:DAYLIGHT
TZOFFSETFROM:+0100
TZOFFSETTO:+0200
TZNAME:CEST
DTSTART:20250330T010000
END:DAYLIGHT
BEGIN:STANDARD
TZOFFSETFROM:+0200
TZOFFSETTO:+0100
TZNAME:CET
DTSTART:20251026T010000
END:STANDARD
END:VTIMEZONE
BEGIN:VEVENT
DTSTART;VALUE=DATE:20250131
DTEND;VALUE=DATE:20250203
DTSTAMP:20260426T040457
CREATED:20221020T070159Z
LAST-MODIFIED:20240923T170826Z
UID:10269-1738281600-1738540799@a-taraxia.es
SUMMARY:Retiro de adaptacion al frio control mental y respiracion en Vall de Nuria
DESCRIPTION:  \n  \n\n \n\n\nRETIRO\nRESPIRACIÓN – ADAPTACIÓN AL FRÍO Y CONTROL MENTAL\nPOR MIGUEL LOZANO Y LUKE WILLS\n31 Enero – 2 Febrero 2024\nPrecio\n660€ compartida760€ individual*según disponibilidad \n\nEste evento se impartirá en castellano \n\nReserva tu plaza aquí \n¡Reserva aquí tu plaza! \n*Este botón te lleva al formulario de inscripción para hacer tu reserva \n\n \nEl Retiro\n \nRESPIRACIÓN – ADAPTACIÓN AL FRÍO Y CONTROL MENTALPOR MIGUEL LOZANO Y LUKE WILLS\nNuestras vidas cómodas\, modernas y desconectadas del entorno natural nos hacen débiles\, tanto a nivel físico como mental. En este retiro aprenderás cómo usar los elementos de la naturaleza y tu respiración para controlar tu mente\, cuerpo y emociones. Miguel y Luke os acompañarán en esta aventura en el corazón de los Pirineos para ayudarte a despertar tu potencial real para ser sano\, fuerte y feliz!\n \n¿Qué aprenderás en nuestros retiros?\nRespiración\n \nLa respiración es el control remoto de nuestro sistema nervioso!\nRespiración 360º \nMiguel y Luke son dos grandes expertos de la respiración pero parten desde experiencias y puntos muy diferentes (apnea y método Wim Hof). Siendo estos dos enfoques casi polos opuestos\, pero a la vez complementarios\, veréis cómo controlar y aplicar la respiración de formas diferentes para poder adaptarlas a vuestras necesidades en el día a día\, pero sobre todo en el control del estrés. Aprenderéis la ciencia y fisiología detrás de las prácticas de respiración y cómo controlar la respiración para controlar tu mente\, cuerpo y emociones. \n  \nSuperación\n \n«Somos capaces de mucho más de lo que creemos!»-WIM HOF\nHay que traspasar las limitaciones mentales para progresar. Lo único que nos impide conseguir lo que queremos somos nosotros mismos y nuestras creencias limitantes. \nNuestros retiros están diseñados para ayudarte a traspasar esas barreras mentales y dejar atrás todo aquello que ya no os sirve. \n  \nReconexión\n \nVivimos vidas muy cómodas y esto nos hace débiles\, tanto física como mentalmente.\nEl acondicionamiento climático es el trabajo de re-adaptar el cuerpo a nuestro entorno natural. En mi opinión\, la desconexión con nuestro entorno natural o lo que es lo mismo\, vivir en un entorno artificial es una de la mayores causas de nuestro sufrimiento ya sea de salud física o mental. \nPara volver a aclimatarnos\, daremos paseos con poca ropa por bosques y montañas y nos bañaremos en pozas\, ríos y cataratas en lugares mágicos y salvajes. \nEl frío de por sí ya es súper potente pero si combinamos esto con un entorno mágico y el apoyo de un grupo de personas maravillosas y motivadas a mejorarse\, estas experiencias son de las que nos pueden cambiar la vida. \n \nCuándo\n31 Enero – 2 Febrero 2024 \n \nDónde\n \nHotel Vall de NuriaGirona \nQué incluye\nAlojamiento en habitaciones compartidas con pensión completa desde el viernes hasta el domingo después de comer.*Contacta para ver posibilidad de habitaciones individuales – info@respira.pro \n\nTodos los talleres de respiración\, adaptación al frío y actividades de aventura.\nCharlas\, ponencias etc.\nGuía de montaña.\nRaquetas de nieve.\nTren cremallera.\n\n\n \nPrecio\n660€ compartida760€ individual*según disponibilidad \n\nEste evento se impartirá en castellano \n\nReserva tu plaza aquí \n¡Reserva aquí tu plaza! \n*Este botón te lleva al formulario de inscripción para hacer tu reserva \n\n \nLa Tribu\n \nGrupo seleccionado por la naturaleza de loc@s de la colina como tú ;). \n \nSobre Nosotros\nMiguel Lozano\n \nMiguel Lozano es un apneista profesional\, especializado en las modalidades de profundidad. Se ha proclamado Doble Subcampeón del Mundo en dos de las tres disciplinas de profundidad en el Campeonato del Mundo AIDA de profundidad de Chipre en 2015. El 30 de Mayo de 2016 se sumergió hasta los -122 metros de profundidad en Inmersión Libre durante el campeonato Caribbean Cup en Roatán (Honduras)\, un logro que en la actualidad lo sitúa como la cuarta persona más profunda del mundo a tan sólo 5 metros del actual Récord Mundial (-127m). \n \nLuke Wills\nA-taraxia – Respira.pro\n \nTras realizar muchos cursos además de investigación propia\, por mi experiencia de vida y a base de prueba y error\, llegué a la conclusión de que el modelo estándar para conseguir un estado de salud óptimo estaba incompleto. Esto me llevó a viajar por muchos lugares del mundo para entrenar con algunos de los mejores entrenadores de sus campos y me ha llevado a vivir aventuras increíbles\, desde bucear en el Mar Andaman\, escalar montañas en los Alpes\, practicar boxeo Tailandés en su país de origen y subir el Mt. Sniezka en Polonia\, medio desnudo en pleno invierno. \nTodos estos aprendizajes y experiencia de vida me han enseñado que somos capaces de mucho más de lo que pensamos y que para encontrar la salud y libertad verdadera hay que entrenar tanto el cuerpo como la mente. \nMi enfoque ahora es ayudar a las personas a reconectar con su entorno natural para despertar su potencial real y ayudarles a controlar su cuerpo\, mente y emociones a través de la respiración. \n \n¡Comparte esta aventura con nosotros!\n \n\n\nPrecio\n660€ compartida760€ individual*según disponibilidad \n\nEste evento se impartirá en castellano \n\nReserva tu plaza aquí \n¡Reserva aquí tu plaza! \n*Este botón te lleva al formulario de inscripción para hacer tu reserva
URL:https://a-taraxia.es/evento/reitro-metodo-wim-hof-y-apnea-en-vall-de-nuria/
LOCATION:Vall de Nuria\, Girona
CATEGORIES:Metodo Wim Hof españa,Taller Fundamentals Metodo Wim Hof
ATTACH;FMTTYPE=image/jpeg:https://a-taraxia.es/wp-content/uploads/2022/10/vall-de-nuria.jpg
ORGANIZER;CN="Ataraxia":MAILTO:info@a-taraxia.es
END:VEVENT
END:VCALENDAR